BEGIN:VCALENDAR
VERSION:2.0
PRODID:-//wp-events-plugin.com//7.2.2.1//EN
BEGIN:VEVENT
UID:15@lundskristnarad.se
DTSTART:20260523T180000Z
DTEND:20260523T190000Z
DTSTAMP:20260422T122802Z
URL:https://lundskristnarad.se/events/ekumenisk-vesper-i-domkyrkan/
SUMMARY:Ekumenisk vesper i Domkyrkan
DESCRIPTION:
LOCATION:Domkyrkan\, Kyrkogatan 2\, Lund\, Skåne\, 22362\, Skåne\, Sverig
 e
X-APPLE-STRUCTURED-LOCATION;VALUE=URI;X-ADDRESS=Kyrkogatan 2\, Lund\, Skån
 e\, 22362\, Skåne\, Sverige;X-APPLE-RADIUS=100;X-TITLE=Domkyrkan:geo:0,0
END:VEVENT
END:VCALENDAR