BEGIN:VCALENDAR
VERSION:2.0
PRODID:-//wp-events-plugin.com//7.2.2.1//EN
BEGIN:VEVENT
UID:17@lundskristnarad.se
DTSTART:20260525T183000Z
DTEND:20260525T193000Z
DTSTAMP:20260422T123631Z
URL:https://lundskristnarad.se/events/ekumenisk-gudstjanst-i-domkyrkan/
SUMMARY:Ekumenisk gudstjänst i Domkyrkan
DESCRIPTION:
END:VEVENT
END:VCALENDAR