BEGIN:VCALENDAR
VERSION:2.0
PRODID:-//wp-events-plugin.com//7.2.2.1//EN
BEGIN:VEVENT
UID:16@lundskristnarad.se
DTSTART:20260523T190000Z
DTEND:20260523T210000Z
DTSTAMP:20260422T123128Z
URL:https://lundskristnarad.se/events/ekumenisk-bonevaka/
SUMMARY:Ekumenisk bönevaka
DESCRIPTION:Lunds olika kyrkor möts på pingstafton till bön och lovsång
 . Samlingen uttrycker olika traditioner och flera från olika kyrkor medve
 rkar.
LOCATION:Domkyrkan\, Kyrkogatan 2\, Lund\, Skåne\, 22362\, Skåne\, Sverig
 e
X-APPLE-STRUCTURED-LOCATION;VALUE=URI;X-ADDRESS=Kyrkogatan 2\, Lund\, Skån
 e\, 22362\, Skåne\, Sverige;X-APPLE-RADIUS=100;X-TITLE=Domkyrkan:geo:0,0
END:VEVENT
END:VCALENDAR